BEGIN:VCALENDAR
VERSION:2.0
PRODID:-//3nity.com//3nity CMS//EN
BEGIN:VEVENT
SUMMARY:Seeing Beyond Ourselves: Cultivating Empathy
UID:2025-07-17-1151923@myrtlebeachuu.org
SEQUENCE:0
STATUS:CONFIRMED
DTSTART:20250316T110000
DTEND:20250316T120000
DTSTAMP:20161222T120000
LOCATION: ASWUU, 7185 SC-707, Myrtle Beach, SC 29588
DESCRIPTION:Most of us would like to think that we are good at demonstrating empathy, but the truth is, we all sometimes fall short. We definitely know how it feels to be cared for and to feel less than important ourselves. How do we navigate that narrow space between showing that we truly care and risking getting it wrong?
URL:http://myrtlebeachuu.org
END:VEVENT
END:VCALENDAR
