BEGIN:VCALENDAR
VERSION:2.0
PRODID:-//3nity.com//3nity CMS//EN
BEGIN:VEVENT
SUMMARY:What Is the Best Day of Your Life?
UID:2024-07-16-1133000@myrtlebeachuu.org
SEQUENCE:0
STATUS:CONFIRMED
DTSTART:20241215T110000
DTEND:20241215T120000
DTSTAMP:20161222T120000
LOCATION: ASWUU, 7185 Highway SC-707, Myrtle Beach, SC 29588
DESCRIPTION:Join us as we welcome our guest speaker, Rev. Dr. Rob Fulwood, who will speak on the topic, "What Is the Best Day of Your Life?"
URL:http://myrtlebeachuu.org
END:VEVENT
END:VCALENDAR
